BEGIN:VCALENDAR
VERSION:2.0
PRODID:-//Schützenverein Rickensdorf//NONSGML kigkonsult.se iCalcreator 2.3
 0.10//
CALSCALE:GREGORIAN
METHOD:PUBLISH
UID:476aa362-2705-4561-afc8-86ab0330a31f
X-WR-CALNAME:iCagenda
X-WR-CALDESC:Event Management Extension for Joomla!
X-WR-RELCALID:3E26604A-50F4-4449-8B3E-E4F4932D05B5
X-WR-TIMEZONE:Europe/Berlin
BEGIN:VTIMEZONE
TZID:Europe/Berlin
BEGIN:STANDARD
TZNAME:CET
DTSTART:20231029T030000
TZOFFSETFROM:+0200
TZOFFSETTO:+0100
RDATE:20241027T030000
END:STANDARD
BEGIN:DAYLIGHT
TZNAME:CEST
DTSTART:20230326T020000
TZOFFSETFROM:+0100
TZOFFSETTO:+0200
RDATE:20240331T020000
RDATE:20250330T020000
END:DAYLIGHT
END:VTIMEZONE
BEGIN:VEVENT
UID:83b4194f-42da-43e6-9f87-485ccac223fb
DTSTAMP:20260423T234534Z
CATEGORIES:Veranstaltung
CLASS:PUBLIC
DESCRIPTION;ALTREP="CID:<FFFF__=0ABBE548DFE235B58f9e8a93d@coffeebean.com>":
 Es werden unterschiedliche Produkte aus eigener Herstellung angeboten und 
 auch&nbsp\;für das leibliche Wohl wird reichlich gesorgt: Kaffe und Kuchen
 \, Bratwurst\,Pommes\, Glühwein und Eierpunsch\,\nund vieles mehr...
DTSTART:20231216T133000Z
DTEND:20231216T190000Z
GEO:+52.357021;+10.970017
LOCATION:Rickensdorf
ORGANIZER:
SEQUENCE:1
SUMMARY:Weihnachtsmarkt 2023
TRANSP:OPAQUE
URL:https://www.sv-rickensdorf.de/vereinstermine/1-weihnachtsmarkt/2023-12-
 16-14-30
END:VEVENT
END:VCALENDAR
