BEGIN:VCALENDAR
VERSION:2.0
PRODID:-//Schützenverein Rickensdorf//NONSGML kigkonsult.se iCalcreator 2.3
 0.10//
CALSCALE:GREGORIAN
METHOD:PUBLISH
UID:57ffe191-8d20-4636-bfd9-01b83e688bf9
X-WR-CALNAME:iCagenda
X-WR-CALDESC:Event Management Extension for Joomla!
X-WR-RELCALID:3E26604A-50F4-4449-8B3E-E4F4932D05B5
X-WR-TIMEZONE:Europe/Berlin
BEGIN:VTIMEZONE
TZID:Europe/Berlin
BEGIN:STANDARD
TZNAME:CET
DTSTART:20251026T030000
TZOFFSETFROM:+0200
TZOFFSETTO:+0100
RDATE:20261025T030000
RDATE:20271031T030000
END:STANDARD
BEGIN:DAYLIGHT
TZNAME:CEST
DTSTART:20260329T020000
TZOFFSETFROM:+0100
TZOFFSETTO:+0200
RDATE:20270328T020000
END:DAYLIGHT
END:VTIMEZONE
BEGIN:VEVENT
UID:014666d7-b451-4bd2-bbfd-5302622e4070
DTSTAMP:20260420T100528Z
CATEGORIES:Veranstaltung
CLASS:PUBLIC
DESCRIPTION:
DTSTART:20260509T113000Z
DTEND:20260509T215900Z
GEO:+52.357021;+10.970017
LOCATION:Rickensdorf
ORGANIZER:
SEQUENCE:1
SUMMARY:Schuetzenfest2026
TRANSP:OPAQUE
URL:https://www.sv-rickensdorf.de/vereinstermine/31-schuetzenfest2026/2026-
 05-09-13-30
END:VEVENT
END:VCALENDAR
