BEGIN:VCALENDAR
VERSION:2.0
PRODID:-//Schützenverein Rickensdorf//NONSGML kigkonsult.se iCalcreator 2.3
 0.10//
CALSCALE:GREGORIAN
METHOD:PUBLISH
UID:d324bdd3-9c78-4a4a-b33e-de4d120ffc3e
X-WR-CALNAME:iCagenda
X-WR-CALDESC:Event Management Extension for Joomla!
X-WR-RELCALID:3E26604A-50F4-4449-8B3E-E4F4932D05B5
X-WR-TIMEZONE:Europe/Berlin
BEGIN:VTIMEZONE
TZID:Europe/Berlin
BEGIN:STANDARD
TZNAME:CET
DTSTART:20251026T030000
TZOFFSETFROM:+0200
TZOFFSETTO:+0100
RDATE:20261025T030000
RDATE:20271031T030000
END:STANDARD
BEGIN:DAYLIGHT
TZNAME:CEST
DTSTART:20260329T020000
TZOFFSETFROM:+0100
TZOFFSETTO:+0200
RDATE:20270328T020000
END:DAYLIGHT
END:VTIMEZONE
BEGIN:VEVENT
UID:acdd4ff3-4421-4540-8726-47d6db911971
DTSTAMP:20260423T184554Z
CATEGORIES:Veranstaltung
CLASS:PUBLIC
DESCRIPTION;ALTREP="CID:<FFFF__=0ABBE548DFE235B58f9e8a93d@coffeebean.com>":
 \na {\n    text-decoration: none\;\n    color: #464feb\;\n}\ntr th\, tr td
  {\n    border: 1px solid #e6e6e6\;\n}\ntr th {\n    background-color: #f5
 f5f5\;\n}\n\nKönigsschießen SV Rickensdorf Am 01. Mai 2026 findet ab 14:00
  Uhr im Schützenhaus Rickensdorf das traditionelle Königsschießen des SV R
 ickensdorf statt. Eingeladen sind alle Mitglieder. Für Geselligkeit und da
 s leibliche Wohl ist gesorgt.
DTSTART:20260501T120000Z
DTEND:20260501T120000Z
GEO:+52.357021;+10.970017
LOCATION:Rickensdorf Schützenhaus
ORGANIZER;CN=:kontakt@sv-rickensdorf.de
SEQUENCE:1
SUMMARY:Königsschießen 2026
TRANSP:OPAQUE
URL:https://www.sv-rickensdorf.de/vereinstermine/32-koenigsschiessen-2026/2
 026-05-01-14-00
END:VEVENT
END:VCALENDAR
